BEGIN:VCALENDAR
VERSION:2.0
PRODID:-//Friends of Letchworth State Park - ECPv6.15.18//NONSGML v1.0//EN
CALSCALE:GREGORIAN
METHOD:PUBLISH
X-WR-CALNAME:Friends of Letchworth State Park
X-ORIGINAL-URL:https://www.friendsofletchworth.com
X-WR-CALDESC:Events for Friends of Letchworth State Park
REFRESH-INTERVAL;VALUE=DURATION:PT1H
X-Robots-Tag:noindex
X-PUBLISHED-TTL:PT1H
BEGIN:VTIMEZONE
TZID:America/New_York
BEGIN:DAYLIGHT
TZOFFSETFROM:-0500
TZOFFSETTO:-0400
TZNAME:EDT
DTSTART:20250309T070000
END:DAYLIGHT
BEGIN:STANDARD
TZOFFSETFROM:-0400
TZOFFSETTO:-0500
TZNAME:EST
DTSTART:20251102T060000
END:STANDARD
BEGIN:DAYLIGHT
TZOFFSETFROM:-0500
TZOFFSETTO:-0400
TZNAME:EDT
DTSTART:20260308T070000
END:DAYLIGHT
BEGIN:STANDARD
TZOFFSETFROM:-0400
TZOFFSETTO:-0500
TZNAME:EST
DTSTART:20261101T060000
END:STANDARD
BEGIN:DAYLIGHT
TZOFFSETFROM:-0500
TZOFFSETTO:-0400
TZNAME:EDT
DTSTART:20270314T070000
END:DAYLIGHT
BEGIN:STANDARD
TZOFFSETFROM:-0400
TZOFFSETTO:-0500
TZNAME:EST
DTSTART:20271107T060000
END:STANDARD
END:VTIMEZONE
BEGIN:VEVENT
DTSTART;TZID=America/New_York:20260322T100000
DTEND;TZID=America/New_York:20260322T130000
DTSTAMP:20260423T195951
CREATED:20260225T174430Z
LAST-MODIFIED:20260227T163406Z
UID:2306-1774173600-1774184400@www.friendsofletchworth.com
SUMMARY:Maple Weekend - Pancake Breakfast
DESCRIPTION:Location:  Humphrey Nature Center \nDates:  Sat. 03/21\, Sun 03/22\, Sat. 03/28\, Sun. 03/29 \nTime Each Day:  10:00 AM to 1:00 PM  \nMenu:  Pancakes\, Sausage\, Butter\, Maple Syrup\, Coffee\, Tea\, Hot Chocolate\, Orange Juice\, Milk \nPrice:  Children under 5 Free.  Five and above $12:00 (including sales tax) \n\n\n	Maple Weekends – Pancake Breakfasts\n	$0.00 – $12.00Price range: $0.00 through $12.00\nTicket Detail	\n		This product has multiple variants. The options may be chosen on the product page
URL:https://www.friendsofletchworth.com/event/maple-weekend-pancake-breakfast/
LOCATION:Humphery Nature Center\, 6773 Trailside Rd\, Castile\, NY\, 14427\, United States
END:VEVENT
BEGIN:VEVENT
DTSTART;TZID=America/New_York:20260321T100000
DTEND;TZID=America/New_York:20260321T130000
DTSTAMP:20260423T195951
CREATED:20260225T174157Z
LAST-MODIFIED:20260227T163328Z
UID:2303-1774087200-1774098000@www.friendsofletchworth.com
SUMMARY:Maple Weekend - Pancake Breakfast
DESCRIPTION:Location:  Humphrey Nature Center \nDates:  Sat. 03/21\, Sun 03/22\, Sat. 03/28\, Sun. 03/29 \nTime Each Day:  10:00 AM to 1:00 PM  \nMenu:  Pancakes\, Sausage\, Butter\, Maple Syrup\, Coffee\, Tea\, Hot Chocolate\, Orange Juice\, Milk \nPrice:  Children under 5 Free.  Five and above $12:00 (including sales tax) \n\n\n	Maple Weekends – Pancake Breakfasts\n	$0.00 – $12.00Price range: $0.00 through $12.00\nTicket Detail	\n		This product has multiple variants. The options may be chosen on the product page
URL:https://www.friendsofletchworth.com/event/pancake-breakfast/
LOCATION:Humphery Nature Center\, 6773 Trailside Rd\, Castile\, NY\, 14427\, United States
END:VEVENT
END:VCALENDAR